BEGIN:VCALENDAR
VERSION:2.0
PRODID:-//www.arcocean.org//NONSGML kigkonsult.se iCalcreator 2.30.10//
CALSCALE:GREGORIAN
METHOD:PUBLISH
UID:dab879b4-0c90-4f3c-a779-24aa90f0d218
X-WR-CALDESC:Come and enjoy our Saturday Recreation program! We do in facil
 ity activities such as crafts\, bingo and games to begin our day and\, mor
 e often than not\, we do a community activity such as attending local fair
 s\, parks\, zoos and other community events. \n\nOur Saturday recreation p
 rogram utilizes respite\, community inclusion and transportation units. Ea
 ch week’s usage of these units differs based upon each day’s unique (and f
 un!) schedule. Email lauren.sarno@arcocean.org for more details!\n\n1. Loc
 ation: Drop off/pick up is at 150 Oberlin Ave\, Unit 1-4\, Lakewood\, NJ\,
  08701. \n\n2. Time: Please remember to be on time for drop off/pick up. P
 articipants should be brought into the building by family/staff to ensure 
 all pertinent information is exchanged. Saturday Recreation will be 10:00a
 m- 3:00pm.\n\n3. COVID/Masking Policy: Masking for recreational activities
  is strongly encouraged but no longer mandatory for both indoor and outdoo
 r activities. If feeling ill\, please stay home. If any participant tests 
 positive for COVID-19\, please notify Lauren Sarno via email immediately.
 \n\n4. Financial Policy: Should an individual want to bring personal money
  for snacks and souvenirs\, Recreational staff can hold onto personal fund
 s if necessary.\n\n5. Medication Policy: Anyone who requires medications t
 o be administered during recreational events must email Lauren.Sarno@arcoc
 ean.org with a medication list and prescriptions for those medications 7 d
 ays prior to scheduled activity. All prescriptions must be updated within 
 the year and must match exactly what is written on the original medication
  container/bottle. All medications for administration must be kept in orig
 inal containers and not prepackaged medication pockets/envelopes. Unfortun
 ately\, if the prescription\, medication container and pre-written MAR don
 ’t match or if there are questions that cannot be answered by the start of
  the trip\, we will not be able to administer the medications to the indiv
 idual. \n\n6. Lunch: All participants must bring lunch and a drink each we
 ek. \n\n7. Cancellations: Please be advised that\, if you have signed up f
 or a date\, please let Lauren Sarno know ASAP (by emailing lauren.sarno@ar
 cocean.org) if you cannot attend. Emergency day-of cancellations can be ma
 de in the same fashion (lauren.sarno@arcocean.org). If a person cancels/no
  call-no shows 3 times within a quarter\, that person will be suspended fr
 om attending for the rest of the quarter and will be able to sign up again
  the following quarter. \n\n8. DDD Budgets: For using their DDD budgets to
  pay for Saturday Recreation\, we must have an updated ISP plan sent throu
 gh our Medicaid mailbox (Medicaid@arcocean.org) with the units in the plan
  prior to signing up. There will be no self-pay option at this time.\n\n9.
  Questions: Email Lauren Sarno\, lauren.sarno@arcocean.org should you have
  any questions or concerns. You can also call for more information 732-363
 -3335\, ext. 146.\n
X-WR-RELCALID:9bfb313f3c9e92a651bbfc07339336e2
X-WR-TIMEZONE:America/New_York
BEGIN:VTIMEZONE
TZID:America/New_York
BEGIN:STANDARD
TZNAME:EST
DTSTART:20231105T020000
TZOFFSETFROM:-0400
TZOFFSETTO:-0500
RDATE:20241103T020000
END:STANDARD
BEGIN:DAYLIGHT
TZNAME:EDT
DTSTART:20230312T020000
TZOFFSETFROM:-0500
TZOFFSETTO:-0400
RDATE:20240310T020000
RDATE:20250309T020000
END:DAYLIGHT
END:VTIMEZONE
BEGIN:VEVENT
UID:bb5636fe-7412-4437-9079-2d123ce8bcef
DTSTAMP:20260422T141323Z
DESCRIPTION:Come and enjoy our Saturday Recreation program! We do in facili
 ty activities such as crafts\, bingo and games to begin our day and\, more
  often than not\, we do a community activity such as attending local fairs
 \, parks\, zoos and other community events. \n\nOur Saturday recreation pr
 ogram utilizes respite\, community inclusion and transportation units. Eac
 h week’s usage of these units differs based upon each day’s unique (and fu
 n!) schedule. Email lauren.sarno@arcocean.org for more details!\n\n1. Loca
 tion: Drop off/pick up is at 150 Oberlin Ave\, Unit 1-4\, Lakewood\, NJ\, 
 08701. \n\n2. Time: Please remember to be on time for drop off/pick up. Pa
 rticipants should be brought into the building by family/staff to ensure a
 ll pertinent information is exchanged. Saturday Recreation will be 10:00am
 - 3:00pm.\n\n3. COVID/Masking Policy: Masking for recreational activities 
 is strongly encouraged but no longer mandatory for both indoor and outdoor
  activities. If feeling ill\, please stay home. If any participant tests p
 ositive for COVID-19\, please notify Lauren Sarno via email immediately.\n
 \n4. Financial Policy: Should an individual want to bring personal money f
 or snacks and souvenirs\, Recreational staff can hold onto personal funds 
 if necessary.\n\n5. Medication Policy: Anyone who requires medications to 
 be administered during recreational events must email Lauren.Sarno@arcocea
 n.org with a medication list and prescriptions for those medications 7 day
 s prior to scheduled activity. All prescriptions must be updated within th
 e year and must match exactly what is written on the original medication c
 ontainer/bottle. All medications for administration must be kept in origin
 al containers and not prepackaged medication pockets/envelopes. Unfortunat
 ely\, if the prescription\, medication container and pre-written MAR don’t
  match or if there are questions that cannot be answered by the start of t
 he trip\, we will not be able to administer the medications to the individ
 ual. \n\n6. Lunch: All participants must bring lunch and a drink each week
 . \n\n7. Cancellations: Please be advised that\, if you have signed up for
  a date\, please let Lauren Sarno know ASAP (by emailing lauren.sarno@arco
 cean.org) if you cannot attend. Emergency day-of cancellations can be made
  in the same fashion (lauren.sarno@arcocean.org). If a person cancels/no c
 all-no shows 3 times within a quarter\, that person will be suspended from
  attending for the rest of the quarter and will be able to sign up again t
 he following quarter. \n\n8. DDD Budgets: For using their DDD budgets to p
 ay for Saturday Recreation\, we must have an updated ISP plan sent through
  our Medicaid mailbox (Medicaid@arcocean.org) with the units in the plan p
 rior to signing up. There will be no self-pay option at this time.\n\n9. Q
 uestions: Email Lauren Sarno\, lauren.sarno@arcocean.org should you have a
 ny questions or concerns. You can also call for more information 732-363-3
 335\, ext. 146.\n
DTSTART;TZID=America/New_York:20240113T100000
DTEND;TZID=America/New_York:20240113T150000
LOCATION:Drop-off & Pick-up: 150 Oberlin Ave\, Lakewood\, NJ
SUMMARY:Saturday Recreation
END:VEVENT
END:VCALENDAR
