BEGIN:VCALENDAR
VERSION:2.0
PRODID:-//www.arcocean.org//NONSGML kigkonsult.se iCalcreator 2.30.10//
CALSCALE:GREGORIAN
METHOD:PUBLISH
UID:8c2fdbcf-b805-41fa-b3de-0b1e006a8339
X-WR-CALDESC:Hit a home run this summer and purchase your discounted Jersey
  Shore BlueClaws baseball tickets with The Arc!\n\nWednesday\, May 13th at
  11:05 AM\nFriday\, June 19th at 7:05 PM\nSaturday\, July 25th at 7:05 PM 
 - Community Partner Night!\nSunday\, August 9th at 1:05 PM
X-WR-RELCALID:2cbf50e7afd5d8a891acccf46764b57b
X-WR-TIMEZONE:America/New_York
BEGIN:VTIMEZONE
TZID:America/New_York
BEGIN:STANDARD
TZNAME:EST
DTSTART:20251102T020000
TZOFFSETFROM:-0400
TZOFFSETTO:-0500
RDATE:20261101T020000
RDATE:20271107T020000
END:STANDARD
BEGIN:DAYLIGHT
TZNAME:EDT
DTSTART:20260308T020000
TZOFFSETFROM:-0500
TZOFFSETTO:-0400
RDATE:20270314T020000
END:DAYLIGHT
END:VTIMEZONE
BEGIN:VEVENT
UID:4c163c10-2e67-45dc-a5ad-68f4a87b671b
DTSTAMP:20260423T211821Z
DESCRIPTION:Hit a home run this summer and purchase your discounted Jersey 
 Shore BlueClaws baseball tickets with The Arc!\n\nWednesday\, May 13th at 
 11:05 AM\nFriday\, June 19th at 7:05 PM\nSaturday\, July 25th at 7:05 PM -
  Community Partner Night!\nSunday\, August 9th at 1:05 PM
DTSTART;TZID=America/New_York:20260513T110500
DTEND;TZID=America/New_York:20260513T140000
LOCATION:2 Stadium Way\, Lakewood\, NJ 08701 US
SUMMARY:BlueClaws Game 1
END:VEVENT
END:VCALENDAR
