BEGIN:VCALENDAR
VERSION:2.0
PRODID:-//www.arcocean.org//NONSGML kigkonsult.se iCalcreator 2.30.10//
CALSCALE:GREGORIAN
METHOD:PUBLISH
UID:9e92938f-37f2-4b07-a500-d78a7759f1c7
X-WR-CALDESC:Join The Arc\, Ocean County Chapter\, at our 24th Annual Step 
 Up for The Arc Walk to raise awareness and funds for the 1\,100 individual
 s with disabilities we support in Ocean County\, NJ.\n\nDate: Saturday\, M
 ay 9th 2026\nLocation: Jersey Shore BlueClaws ShoreTown Ballpark\, 2 Stadi
 um Way\, Lakewood\, NJ 08701\nTime: 10:00am-1:00pm \n\nEvent proceeds will
  benefit The Arc's mission to advocate\, provide opportunities and support
 s necessary for all individuals with intellectual and developmental disabi
 lities to be accepted and valued as citizens of the community in which the
 y choose to live\, learn\, work and play. Learn more at www.arcocean.org.
X-WR-RELCALID:9c42ff7f4ec81b8fb6e0237585cacc78
X-WR-TIMEZONE:America/New_York
BEGIN:VTIMEZONE
TZID:America/New_York
BEGIN:STANDARD
TZNAME:EST
DTSTART:20251102T020000
TZOFFSETFROM:-0400
TZOFFSETTO:-0500
RDATE:20261101T020000
RDATE:20271107T020000
END:STANDARD
BEGIN:DAYLIGHT
TZNAME:EDT
DTSTART:20260308T020000
TZOFFSETFROM:-0500
TZOFFSETTO:-0400
RDATE:20270314T020000
END:DAYLIGHT
END:VTIMEZONE
BEGIN:VEVENT
UID:894460eb-c59d-496e-bc64-b26745e4ed8c
DTSTAMP:20260423T213748Z
DESCRIPTION:Join The Arc\, Ocean County Chapter\, at our 24th Annual Step U
 p for The Arc Walk to raise awareness and funds for the 1\,100 individuals
  with disabilities we support in Ocean County\, NJ.\n\nDate: Saturday\, Ma
 y 9th 2026\nLocation: Jersey Shore BlueClaws ShoreTown Ballpark\, 2 Stadiu
 m Way\, Lakewood\, NJ 08701\nTime: 10:00am-1:00pm \n\nEvent proceeds will 
 benefit The Arc's mission to advocate\, provide opportunities and supports
  necessary for all individuals with intellectual and developmental disabil
 ities to be accepted and valued as citizens of the community in which they
  choose to live\, learn\, work and play. Learn more at www.arcocean.org.
DTSTART;TZID=America/New_York:20260509T100000
DTEND;TZID=America/New_York:20260509T130000
LOCATION:2 Stadium Way\, Lakewood\, AL 08070 US
SUMMARY:Step Up for The Arc Walk
END:VEVENT
END:VCALENDAR
