BEGIN:VCALENDAR
VERSION:2.0
PRODID:-//www.arcocean.org//NONSGML kigkonsult.se iCalcreator 2.30.10//
CALSCALE:GREGORIAN
METHOD:PUBLISH
UID:25365de7-0ce8-4272-aeab-756286b8b251
X-WR-CALDESC:Say hello to our #ArcOcean staff to learn more about our progr
 ams and services.
X-WR-RELCALID:ba0bb11aa1342df4df454e286029e453
X-WR-TIMEZONE:America/New_York
BEGIN:VTIMEZONE
TZID:America/New_York
BEGIN:STANDARD
TZNAME:EST
DTSTART:20251102T020000
TZOFFSETFROM:-0400
TZOFFSETTO:-0500
RDATE:20261101T020000
END:STANDARD
BEGIN:DAYLIGHT
TZNAME:EDT
DTSTART:20260308T020000
TZOFFSETFROM:-0500
TZOFFSETTO:-0400
RDATE:20270314T020000
END:DAYLIGHT
END:VTIMEZONE
BEGIN:VEVENT
UID:1c59a1c9-2797-4477-aa3e-a66e30d2a04b
DTSTAMP:20260423T193401Z
DESCRIPTION:Say hello to our #ArcOcean staff to learn more about our progra
 ms and services.
DTSTART;TZID=America/New_York:20260415T180000
DTEND;TZID=America/New_York:20260415T200000
LOCATION:
SUMMARY:Say Hello to #ArcOcean at the Toms River Schools
END:VEVENT
END:VCALENDAR
