BEGIN:VCALENDAR
VERSION:2.0
PRODID:-//www.arcocean.org//NONSGML kigkonsult.se iCalcreator 2.30.10//
CALSCALE:GREGORIAN
METHOD:PUBLISH
UID:530eda60-589f-4c17-8ecd-6d8faa8a69d2
X-WR-CALDESC:We are excited to announce the return of The Arc\, Ocean Count
 y Chapter's Catalyst Awards on Wednesday\, March 18th at The Clarion in To
 ms River\, where we honor and recognize the incredible dedication of our s
 taff\, donors\, and community partners to our mission and the individuals 
 we serve.
X-WR-RELCALID:211e865e12763791168eea013a4e7cdc
X-WR-TIMEZONE:America/New_York
BEGIN:VTIMEZONE
TZID:America/New_York
BEGIN:STANDARD
TZNAME:EST
DTSTART:20251102T020000
TZOFFSETFROM:-0400
TZOFFSETTO:-0500
RDATE:20261101T020000
END:STANDARD
BEGIN:DAYLIGHT
TZNAME:EDT
DTSTART:20260308T020000
TZOFFSETFROM:-0500
TZOFFSETTO:-0400
RDATE:20270314T020000
END:DAYLIGHT
END:VTIMEZONE
BEGIN:VEVENT
UID:24eaff7d-b5c1-4cb5-a546-1ea5934e269b
DTSTAMP:20260423T213911Z
DESCRIPTION:We are excited to announce the return of The Arc\, Ocean County
  Chapter's Catalyst Awards on Wednesday\, March 18th at The Clarion in Tom
 s River\, where we honor and recognize the incredible dedication of our st
 aff\, donors\, and community partners to our mission and the individuals w
 e serve.
DTSTART;TZID=America/New_York:20260318T180000
DTEND;TZID=America/New_York:20260318T210000
LOCATION:815 NJ-37\, Toms River\, NJ 08755 US
SUMMARY:Catalyst Awards
END:VEVENT
END:VCALENDAR
