BEGIN:VCALENDAR
VERSION:2.0
PRODID:-//www.arcocean.org//NONSGML kigkonsult.se iCalcreator 2.30.10//
CALSCALE:GREGORIAN
METHOD:PUBLISH
UID:1e94b25b-2403-4a37-a8a6-9866975b344a
X-WR-CALDESC:Say Hello to our #ArcOcean Pre-ETS program at the Lakewood Hig
 h School Transition Fair to learn more about our programs\, services\, and
  job opportunities.
X-WR-RELCALID:960aff87d3f806c80632a37c67ec97d3
X-WR-TIMEZONE:America/New_York
BEGIN:VTIMEZONE
TZID:America/New_York
BEGIN:STANDARD
TZNAME:EST
DTSTART:20251102T020000
TZOFFSETFROM:-0400
TZOFFSETTO:-0500
RDATE:20261101T020000
END:STANDARD
BEGIN:DAYLIGHT
TZNAME:EDT
DTSTART:20260308T020000
TZOFFSETFROM:-0500
TZOFFSETTO:-0400
RDATE:20270314T020000
END:DAYLIGHT
END:VTIMEZONE
BEGIN:VEVENT
UID:59abcfc2-1bd6-4147-9c65-a9eed97d991e
DTSTAMP:20260423T214053Z
DESCRIPTION:Say Hello to our #ArcOcean Pre-ETS program at the Lakewood High
  School Transition Fair to learn more about our programs\, services\, and 
 job opportunities.
DTSTART;TZID=America/New_York:20260311T170000
DTEND;TZID=America/New_York:20260311T190000
LOCATION:
SUMMARY:Say Hello to #ArcOcean at the Lakewood High School Transition Fair
END:VEVENT
END:VCALENDAR
