BEGIN:VCALENDAR
VERSION:2.0
PRODID:-//www.arcocean.org//NONSGML kigkonsult.se iCalcreator 2.30.10//
CALSCALE:GREGORIAN
METHOD:PUBLISH
UID:38fc2d30-281f-407d-8a65-35e37873ef66
X-WR-CALDESC:Say Hello to our #ArcOcean Pre-ETS program at the Mainland Reg
 ional High School Job Fair to learn more about our programs\, services\, a
 nd job opportunities.
X-WR-RELCALID:3a823d6718b2e65148f48906ec93ce42
X-WR-TIMEZONE:America/New_York
BEGIN:VTIMEZONE
TZID:America/New_York
BEGIN:STANDARD
TZNAME:EST
DTSTART:20251102T020000
TZOFFSETFROM:-0400
TZOFFSETTO:-0500
RDATE:20261101T020000
END:STANDARD
BEGIN:DAYLIGHT
TZNAME:EDT
DTSTART:20250309T020000
TZOFFSETFROM:-0500
TZOFFSETTO:-0400
RDATE:20260308T020000
RDATE:20270314T020000
END:DAYLIGHT
END:VTIMEZONE
BEGIN:VEVENT
UID:8f61a149-128b-4c7c-bc42-447d0868f439
DTSTAMP:20260423T213725Z
DESCRIPTION:Say Hello to our #ArcOcean Pre-ETS program at the Mainland Regi
 onal High School Job Fair to learn more about our programs\, services\, an
 d job opportunities.
DTSTART;TZID=America/New_York:20260306T100000
DTEND;TZID=America/New_York:20260306T120000
LOCATION:
SUMMARY:Say Hello to #ArcOcean at the Mainland Regional High School Job Fai
 r
END:VEVENT
END:VCALENDAR
