BEGIN:VCALENDAR
VERSION:2.0
PRODID:-//www.arcocean.org//NONSGML kigkonsult.se iCalcreator 2.30.10//
CALSCALE:GREGORIAN
METHOD:PUBLISH
UID:81d809b2-dcf8-4c65-bfa3-50b2ab289dfe
X-WR-CALDESC:The Arc's Vocational Programs will host this year's Lunch Brea
 k to celebrate Developmental Disabilities Awareness Month! \n\nWe welcome 
 the community to stop by for lunch on Thursday\, March 5th at our Pop-Up C
 afé at 393 Mantoloking Road in Brick from 12-2pm to learn about the servic
 es we provide to local businesses and see how you can become a partner for
  inclusion in 2026. Meet #ArcOcean representatives from the Employment Cen
 ter\, Adult Training Centers\, Employment Supports and Transition Services
 .
X-WR-RELCALID:f30fe5eb34dec0acc5e2dad19e96558f
X-WR-TIMEZONE:America/New_York
BEGIN:VTIMEZONE
TZID:America/New_York
BEGIN:STANDARD
TZNAME:EST
DTSTART:20251102T020000
TZOFFSETFROM:-0400
TZOFFSETTO:-0500
RDATE:20261101T020000
END:STANDARD
BEGIN:DAYLIGHT
TZNAME:EDT
DTSTART:20250309T020000
TZOFFSETFROM:-0500
TZOFFSETTO:-0400
RDATE:20260308T020000
RDATE:20270314T020000
END:DAYLIGHT
END:VTIMEZONE
BEGIN:VEVENT
UID:b4b89e7e-7b47-479f-8849-b69092c418c8
DTSTAMP:20260423T214052Z
DESCRIPTION:The Arc's Vocational Programs will host this year's Lunch Break
  to celebrate Developmental Disabilities Awareness Month! \n\nWe welcome t
 he community to stop by for lunch on Thursday\, March 5th at our Pop-Up Ca
 fé at 393 Mantoloking Road in Brick from 12-2pm to learn about the service
 s we provide to local businesses and see how you can become a partner for 
 inclusion in 2026. Meet #ArcOcean representatives from the Employment Cent
 er\, Adult Training Centers\, Employment Supports and Transition Services.
DTSTART;TZID=America/New_York:20260305T120000
DTEND;TZID=America/New_York:20260305T140000
LOCATION:393 Mantoloking Road\, Brick\, NJ 08723 US
SUMMARY:DD Awareness Month Lunch Break
END:VEVENT
END:VCALENDAR
