BEGIN:VCALENDAR
VERSION:2.0
PRODID:-//www.arcocean.org//NONSGML kigkonsult.se iCalcreator 2.30.10//
CALSCALE:GREGORIAN
METHOD:PUBLISH
UID:9f098ef3-bfa1-4a54-994d-30a8dc4ea33d
X-WR-CALDESC:Join The Arc of Ocean County on Sunday\, March 1st\, from 12 P
 M to 4 PM at the Mainland Kitchen + Pub in Manahawkin for the Causeway CAR
 es Annual Summer in Winter Carnival. We will be distributing information a
 bout our programs and services while networking with other nonprofit organ
 izations in our community.
X-WR-RELCALID:a7587ac1f3f81ea3ea44ff1c70fcb53c
X-WR-TIMEZONE:America/New_York
BEGIN:VTIMEZONE
TZID:America/New_York
BEGIN:STANDARD
TZNAME:EST
DTSTART:20251102T020000
TZOFFSETFROM:-0400
TZOFFSETTO:-0500
RDATE:20261101T020000
END:STANDARD
BEGIN:DAYLIGHT
TZNAME:EDT
DTSTART:20250309T020000
TZOFFSETFROM:-0500
TZOFFSETTO:-0400
RDATE:20260308T020000
RDATE:20270314T020000
END:DAYLIGHT
END:VTIMEZONE
BEGIN:VEVENT
UID:5fa9947c-d049-4d64-b312-53ca94bfce1c
DTSTAMP:20260423T213311Z
DESCRIPTION:Join The Arc of Ocean County on Sunday\, March 1st\, from 12 PM
  to 4 PM at the Mainland Kitchen + Pub in Manahawkin for the Causeway CARe
 s Annual Summer in Winter Carnival. We will be distributing information ab
 out our programs and services while networking with other nonprofit organi
 zations in our community.
DTSTART;TZID=America/New_York:20260301T120000
DTEND;TZID=America/New_York:20260301T160000
LOCATION:151 Route 72\, Manahawkin\, NJ 08050 US
SUMMARY:Say Hello to #ArcOcean at the Summer in Winter Carnival
END:VEVENT
END:VCALENDAR
