BEGIN:VCALENDAR
VERSION:2.0
PRODID:-//www.arcocean.org//NONSGML kigkonsult.se iCalcreator 2.30.10//
CALSCALE:GREGORIAN
METHOD:PUBLISH
UID:adf91308-e97c-4531-adac-f9d039692c25
X-WR-CALDESC:Say Hello to our #ArcOcean Pre-ETS program at the Point Pleasa
 nt Parent Group Meeting to learn more about our programs\, services\, and 
 job opportunities.
X-WR-RELCALID:713c8b15f06c18710550d706559aef8c
X-WR-TIMEZONE:America/New_York
BEGIN:VTIMEZONE
TZID:America/New_York
BEGIN:STANDARD
TZNAME:EST
DTSTART:20251102T020000
TZOFFSETFROM:-0400
TZOFFSETTO:-0500
RDATE:20261101T020000
END:STANDARD
BEGIN:DAYLIGHT
TZNAME:EDT
DTSTART:20250309T020000
TZOFFSETFROM:-0500
TZOFFSETTO:-0400
RDATE:20260308T020000
RDATE:20270314T020000
END:DAYLIGHT
END:VTIMEZONE
BEGIN:VEVENT
UID:1291c63e-60b2-4493-b032-01df3ad5e432
DTSTAMP:20260423T232540Z
DESCRIPTION:Say Hello to our #ArcOcean Pre-ETS program at the Point Pleasan
 t Parent Group Meeting to learn more about our programs\, services\, and j
 ob opportunities.
DTSTART;TZID=America/New_York:20260226T180000
DTEND;TZID=America/New_York:20260226T190000
LOCATION:
SUMMARY:Say Hello to #ArcOcean at the Point Pleasant Parent Group Meeting
END:VEVENT
END:VCALENDAR
