BEGIN:VCALENDAR
VERSION:2.0
PRODID:-//www.arcocean.org//NONSGML kigkonsult.se iCalcreator 2.30.10//
CALSCALE:GREGORIAN
METHOD:PUBLISH
UID:11678560-bd79-4658-a014-12cace358153
X-WR-CALDESC:Say Hello to our #ArcOcean Pre-ETS program at the Atlantic Cou
 nty Institute of Technology to learn more about our programs\, services\, 
 and job opportunities.
X-WR-RELCALID:d5e608e4a3af4b0bc3954cb911a7aa3c
X-WR-TIMEZONE:America/New_York
BEGIN:VTIMEZONE
TZID:America/New_York
BEGIN:STANDARD
TZNAME:EST
DTSTART:20251102T020000
TZOFFSETFROM:-0400
TZOFFSETTO:-0500
RDATE:20261101T020000
END:STANDARD
BEGIN:DAYLIGHT
TZNAME:EDT
DTSTART:20250309T020000
TZOFFSETFROM:-0500
TZOFFSETTO:-0400
RDATE:20260308T020000
RDATE:20270314T020000
END:DAYLIGHT
END:VTIMEZONE
BEGIN:VEVENT
UID:2ead92f3-7760-4aff-a9db-f9b0341e6f52
DTSTAMP:20260423T231840Z
DESCRIPTION:Say Hello to our #ArcOcean Pre-ETS program at the Atlantic Coun
 ty Institute of Technology to learn more about our programs\, services\, a
 nd job opportunities.
DTSTART;TZID=America/New_York:20260226T100000
DTEND;TZID=America/New_York:20260226T120000
LOCATION:
SUMMARY:Say Hello to #ArcOcean at the ACIT Career & Job Fair
END:VEVENT
END:VCALENDAR
