BEGIN:VCALENDAR
VERSION:2.0
PRODID:-//www.arcocean.org//NONSGML kigkonsult.se iCalcreator 2.30.10//
CALSCALE:GREGORIAN
METHOD:PUBLISH
UID:0672cd55-0812-4e85-8157-2828479d5bc5
X-WR-CALDESC:Join The Arc's Journeys and Discovery program on Thursday\, Fe
 bruary 5th\, from 5:30 PM to 7:30 PM at the Ocean County Library\, Brick B
 ranch. We will be celebrating the reception of the 'Watercolor Experience 
 Art Exhibition\,' showcasing original artwork that will be on display unti
 l February 26th.
X-WR-RELCALID:05dbde60996fd1f229eada6b3950c6af
X-WR-TIMEZONE:America/New_York
BEGIN:VTIMEZONE
TZID:America/New_York
BEGIN:STANDARD
TZNAME:EST
DTSTART:20251102T020000
TZOFFSETFROM:-0400
TZOFFSETTO:-0500
RDATE:20261101T020000
END:STANDARD
BEGIN:DAYLIGHT
TZNAME:EDT
DTSTART:20250309T020000
TZOFFSETFROM:-0500
TZOFFSETTO:-0400
RDATE:20260308T020000
RDATE:20270314T020000
END:DAYLIGHT
END:VTIMEZONE
BEGIN:VEVENT
UID:512df8f7-0d4b-44ae-a023-944846d0665e
DTSTAMP:20260423T231706Z
DESCRIPTION:Join The Arc's Journeys and Discovery program on Thursday\, Feb
 ruary 5th\, from 5:30 PM to 7:30 PM at the Ocean County Library\, Brick Br
 anch. We will be celebrating the reception of the 'Watercolor Experience A
 rt Exhibition\,' showcasing original artwork that will be on display until
  February 26th.
DTSTART;TZID=America/New_York:20260205T173000
DTEND;TZID=America/New_York:20260205T193000
LOCATION:301 Chambers Brg Rd\, Brick\, NJ 08723 US
SUMMARY:Say Hello to #ArcOcean at the Brick Library
END:VEVENT
END:VCALENDAR
