BEGIN:VCALENDAR
VERSION:2.0
PRODID:-//www.arcocean.org//NONSGML kigkonsult.se iCalcreator 2.30.10//
CALSCALE:GREGORIAN
METHOD:PUBLISH
UID:7b7173fd-60c9-49bf-9a97-2bb6dc22fa05
X-WR-CALDESC:Community Connections ATC was given the exciting opportunity t
 o have their artwork displayed at the Waretown Library for the whole month
  of December! The program will be hosting a reception\, with light refresh
 ments on December 15th from 5pm to 8pm!
X-WR-RELCALID:d4f2656604cbb3298ffa65b46cc10aa7
X-WR-TIMEZONE:America/New_York
BEGIN:VTIMEZONE
TZID:America/New_York
BEGIN:STANDARD
TZNAME:EST
DTSTART:20251102T020000
TZOFFSETFROM:-0400
TZOFFSETTO:-0500
RDATE:20261101T020000
END:STANDARD
BEGIN:DAYLIGHT
TZNAME:EDT
DTSTART:20250309T020000
TZOFFSETFROM:-0500
TZOFFSETTO:-0400
RDATE:20260308T020000
RDATE:20270314T020000
END:DAYLIGHT
END:VTIMEZONE
BEGIN:VEVENT
UID:13d693b5-3072-4f4f-af09-93c482ba5186
DTSTAMP:20260424T030328Z
DESCRIPTION:Community Connections ATC was given the exciting opportunity to
  have their artwork displayed at the Waretown Library for the whole month 
 of December! The program will be hosting a reception\, with light refreshm
 ents on December 15th from 5pm to 8pm!
DTSTART;TZID=America/New_York:20251215T170000
DTEND;TZID=America/New_York:20251215T200000
LOCATION:112 Main St\, Waretown\, NJ 08758 US
SUMMARY:Community Connections ATC Art Show
END:VEVENT
END:VCALENDAR
