BEGIN:VCALENDAR
VERSION:2.0
PRODID:-//www.arcocean.org//NONSGML kigkonsult.se iCalcreator 2.30.10//
CALSCALE:GREGORIAN
METHOD:PUBLISH
UID:3cc01797-714b-4985-a47f-110d244dc5db
X-WR-CALDESC:Join The Arc at the iconic Strand Theater for a Winter Wonderl
 and Art Gallery celebrating the holidays and our vocational day program ar
 tists. The paintings will be displayed among The Strand Gallery for the mo
 nth of December and holiday cards with custom art designs will be availabl
 e for purchase. A special thank you to the Ocean County Cultural and Herit
 age Commission for funding this creative project. \n\nPlease RSVP with you
 r attendance.
X-WR-RELCALID:6872a1a498e9189809645943f72838f3
X-WR-TIMEZONE:America/New_York
BEGIN:VTIMEZONE
TZID:America/New_York
BEGIN:STANDARD
TZNAME:EST
DTSTART:20251102T020000
TZOFFSETFROM:-0400
TZOFFSETTO:-0500
RDATE:20261101T020000
END:STANDARD
BEGIN:DAYLIGHT
TZNAME:EDT
DTSTART:20250309T020000
TZOFFSETFROM:-0500
TZOFFSETTO:-0400
RDATE:20260308T020000
RDATE:20270314T020000
END:DAYLIGHT
END:VTIMEZONE
BEGIN:VEVENT
UID:c05d521e-09fa-4d08-8da6-e0f620900de2
DTSTAMP:20260424T030227Z
DESCRIPTION:Join The Arc at the iconic Strand Theater for a Winter Wonderla
 nd Art Gallery celebrating the holidays and our vocational day program art
 ists. The paintings will be displayed among The Strand Gallery for the mon
 th of December and holiday cards with custom art designs will be available
  for purchase. A special thank you to the Ocean County Cultural and Herita
 ge Commission for funding this creative project. \n\nPlease RSVP with your
  attendance.
DTSTART;TZID=America/New_York:20251210T100000
DTEND;TZID=America/New_York:20251210T140000
LOCATION:The Strand Theater\, Lakewood\, NJ
SUMMARY:Winter Wonderland Art Gallery
END:VEVENT
END:VCALENDAR
