BEGIN:VCALENDAR
VERSION:2.0
PRODID:-//www.arcocean.org//NONSGML kigkonsult.se iCalcreator 2.30.10//
CALSCALE:GREGORIAN
METHOD:PUBLISH
UID:27e6939e-78b0-4c25-b0f3-3d73e4342fd0
X-WR-CALDESC:Say hello to The Arc's North Bay adult training center as they
  spread holiday cheer and wrap gifts for donations at the Toms River Bosco
 v's department store!
X-WR-RELCALID:4decfd71faf5054845d29f0146eb2c98
X-WR-TIMEZONE:America/New_York
BEGIN:VTIMEZONE
TZID:America/New_York
BEGIN:STANDARD
TZNAME:EST
DTSTART:20251102T020000
TZOFFSETFROM:-0400
TZOFFSETTO:-0500
RDATE:20261101T020000
END:STANDARD
BEGIN:DAYLIGHT
TZNAME:EDT
DTSTART:20250309T020000
TZOFFSETFROM:-0500
TZOFFSETTO:-0400
RDATE:20260308T020000
RDATE:20270314T020000
END:DAYLIGHT
END:VTIMEZONE
BEGIN:VEVENT
UID:ccc3b9f6-5285-413c-9238-6a75b40f9cf6
DTSTAMP:20260424T031545Z
DESCRIPTION:Say hello to The Arc's North Bay adult training center as they 
 spread holiday cheer and wrap gifts for donations at the Toms River Boscov
 's department store!
DTSTART;TZID=America/New_York:20251209T100000
DTEND;TZID=America/New_York:20251209T140000
LOCATION:Boscov’s Department Store 1201 Hooper Avenue\, Suite 8540 Toms Riv
 er\, New Jersey 08753
SUMMARY:Say Hello to #ArcOcean at Boscov’s
END:VEVENT
END:VCALENDAR
