BEGIN:VCALENDAR
VERSION:2.0
PRODID:-//www.arcocean.org//NONSGML kigkonsult.se iCalcreator 2.30.10//
CALSCALE:GREGORIAN
METHOD:PUBLISH
UID:43f35716-55c5-4b37-bb6f-227552d40acc
X-WR-CALDESC:Say hello to #ArcOcean at the Brick Township Festival of Trees
  on Wednesday\, December 3rd to check out the decorated holiday tree the L
 akewood adult training center put together.
X-WR-RELCALID:e5b420714c0469f7d2bdd89864d19cbc
X-WR-TIMEZONE:America/New_York
BEGIN:VTIMEZONE
TZID:America/New_York
BEGIN:STANDARD
TZNAME:EST
DTSTART:20251102T020000
TZOFFSETFROM:-0400
TZOFFSETTO:-0500
RDATE:20261101T020000
END:STANDARD
BEGIN:DAYLIGHT
TZNAME:EDT
DTSTART:20250309T020000
TZOFFSETFROM:-0500
TZOFFSETTO:-0400
RDATE:20260308T020000
RDATE:20270314T020000
END:DAYLIGHT
END:VTIMEZONE
BEGIN:VEVENT
UID:2030f4a3-b872-4eeb-86ea-993795a1eb83
DTSTAMP:20260424T030558Z
DESCRIPTION:Say hello to #ArcOcean at the Brick Township Festival of Trees 
 on Wednesday\, December 3rd to check out the decorated holiday tree the La
 kewood adult training center put together.
DTSTART;TZID=America/New_York:20251203T173000
DTEND;TZID=America/New_York:20251203T193000
LOCATION:Brick Township Municipal Court 401 Chambers Brg Rd\, Brick Townshi
 p\, NJ 08723
SUMMARY:Say Hello to #ArcOcean at Brick Township Festival of Trees
END:VEVENT
END:VCALENDAR
