BEGIN:VCALENDAR
VERSION:2.0
PRODID:-//www.arcocean.org//NONSGML kigkonsult.se iCalcreator 2.30.10//
CALSCALE:GREGORIAN
METHOD:PUBLISH
UID:1614f880-5603-473f-bcc8-0f31fdf796dc
X-WR-CALDESC:Say hello to #ArcOcean at Brick Gives Back on Tuesday\, Decemb
 er 2nd from 5:30pm-7:30pm where our Employment Center will have a table se
 lling holiday crafts and merchandise handmade by our participants.
X-WR-RELCALID:ce0992dffeefb0adeed341fad6363815
X-WR-TIMEZONE:America/New_York
BEGIN:VTIMEZONE
TZID:America/New_York
BEGIN:STANDARD
TZNAME:EST
DTSTART:20251102T020000
TZOFFSETFROM:-0400
TZOFFSETTO:-0500
RDATE:20261101T020000
END:STANDARD
BEGIN:DAYLIGHT
TZNAME:EDT
DTSTART:20250309T020000
TZOFFSETFROM:-0500
TZOFFSETTO:-0400
RDATE:20260308T020000
RDATE:20270314T020000
END:DAYLIGHT
END:VTIMEZONE
BEGIN:VEVENT
UID:99305cb9-25a5-44bf-b0c0-0ead19069663
DTSTAMP:20260424T030026Z
DESCRIPTION:Say hello to #ArcOcean at Brick Gives Back on Tuesday\, Decembe
 r 2nd from 5:30pm-7:30pm where our Employment Center will have a table sel
 ling holiday crafts and merchandise handmade by our participants.
DTSTART;TZID=America/New_York:20251202T173000
DTEND;TZID=America/New_York:20251202T193000
LOCATION:Icarus Brewing Company 2045 Route 88\, Brick NJ
SUMMARY:Say Hello to #ArcOcean at Brick Chamber Gives Back
END:VEVENT
END:VCALENDAR
