BEGIN:VCALENDAR
VERSION:2.0
PRODID:-//www.arcocean.org//NONSGML kigkonsult.se iCalcreator 2.30.10//
CALSCALE:GREGORIAN
METHOD:PUBLISH
UID:660e057a-3578-448a-8f67-6fdb684499d3
X-WR-CALDESC:Giving Tuesday is an annual global generosity movement that en
 courages people to give back to their communities through charitable donat
 ions\, volunteering\, or acts of kindness. It takes place on the Tuesday a
 fter Thanksgiving in the United States\, and it's a day focused on promoti
 ng generosity and supporting causes that matter.
X-WR-RELCALID:1eb97b298ebf4013ca8168d13c17b445
X-WR-TIMEZONE:America/New_York
BEGIN:VTIMEZONE
TZID:America/New_York
BEGIN:STANDARD
TZNAME:EST
DTSTART:20251102T020000
TZOFFSETFROM:-0400
TZOFFSETTO:-0500
RDATE:20261101T020000
END:STANDARD
BEGIN:DAYLIGHT
TZNAME:EDT
DTSTART:20250309T020000
TZOFFSETFROM:-0500
TZOFFSETTO:-0400
RDATE:20260308T020000
RDATE:20270314T020000
END:DAYLIGHT
END:VTIMEZONE
BEGIN:VEVENT
UID:13d1cebc-1d27-4bcd-a893-742a1d51025b
DTSTAMP:20260424T030558Z
DESCRIPTION:Giving Tuesday is an annual global generosity movement that enc
 ourages people to give back to their communities through charitable donati
 ons\, volunteering\, or acts of kindness. It takes place on the Tuesday af
 ter Thanksgiving in the United States\, and it's a day focused on promotin
 g generosity and supporting causes that matter.
DTSTART;TZID=America/New_York:20251202T060000
DTEND;TZID=America/New_York:20251202T060001
LOCATION:
SUMMARY:Giving Tuesday
END:VEVENT
END:VCALENDAR
