BEGIN:VCALENDAR
VERSION:2.0
PRODID:-//www.arcocean.org//NONSGML kigkonsult.se iCalcreator 2.30.10//
CALSCALE:GREGORIAN
METHOD:PUBLISH
UID:dea36a99-907d-4db7-b23f-f8c1074ebd2c
X-WR-CALDESC:Say hello to our #ArcOcean staff to learn more about our progr
 ams and services.
X-WR-RELCALID:5f4fe29c5c478a7bd3e68705b2f150cf
X-WR-TIMEZONE:America/New_York
BEGIN:VTIMEZONE
TZID:America/New_York
BEGIN:STANDARD
TZNAME:EST
DTSTART:20251102T020000
TZOFFSETFROM:-0400
TZOFFSETTO:-0500
RDATE:20261101T020000
END:STANDARD
BEGIN:DAYLIGHT
TZNAME:EDT
DTSTART:20250309T020000
TZOFFSETFROM:-0500
TZOFFSETTO:-0400
RDATE:20260308T020000
RDATE:20270314T020000
END:DAYLIGHT
END:VTIMEZONE
BEGIN:VEVENT
UID:dd2bcc1c-b163-494e-b656-901f608d962d
DTSTAMP:20260424T050648Z
DESCRIPTION:Say hello to our #ArcOcean staff to learn more about our progra
 ms and services.
DTSTART;TZID=America/New_York:20251119T170000
DTEND;TZID=America/New_York:20251119T190000
LOCATION:
SUMMARY:Say Hello to #ArcOcean at the Regional Day School
END:VEVENT
END:VCALENDAR
