BEGIN:VCALENDAR
VERSION:2.0
PRODID:-//www.arcocean.org//NONSGML kigkonsult.se iCalcreator 2.30.10//
CALSCALE:GREGORIAN
METHOD:PUBLISH
UID:948179e3-5b7d-47a7-b9f8-24a632641ec3
X-WR-CALDESC:Come cheer on your favorite team at our Arc Ocean Flag Footbal
 l Tournament on Wednesday\, November 19th\, from 10 AM to 2 PM at the Drum
  Point Sports Complex turf fields\, located at 303 Brick Blvd\, Brick Town
 ship\, NJ 08723. This fun-filled event will bring together participants fr
 om six vocational day programs for a day of friendly competition\, fitness
 \, and camaraderie.
X-WR-RELCALID:8344572bbcb1a89062ad2d9830ce290d
X-WR-TIMEZONE:America/New_York
BEGIN:VTIMEZONE
TZID:America/New_York
BEGIN:STANDARD
TZNAME:EST
DTSTART:20251102T020000
TZOFFSETFROM:-0400
TZOFFSETTO:-0500
RDATE:20261101T020000
END:STANDARD
BEGIN:DAYLIGHT
TZNAME:EDT
DTSTART:20250309T020000
TZOFFSETFROM:-0500
TZOFFSETTO:-0400
RDATE:20260308T020000
RDATE:20270314T020000
END:DAYLIGHT
END:VTIMEZONE
BEGIN:VEVENT
UID:62abd202-9537-41de-a3a7-d9a63a20c16d
DTSTAMP:20260424T052024Z
DESCRIPTION:Come cheer on your favorite team at our Arc Ocean Flag Football
  Tournament on Wednesday\, November 19th\, from 10 AM to 2 PM at the Drum 
 Point Sports Complex turf fields\, located at 303 Brick Blvd\, Brick Towns
 hip\, NJ 08723. This fun-filled event will bring together participants fro
 m six vocational day programs for a day of friendly competition\, fitness\
 , and camaraderie.
DTSTART;TZID=America/New_York:20251119T100000
DTEND;TZID=America/New_York:20251119T140000
LOCATION:Drum Point Sports Complex
SUMMARY:Flag Football Tournament
END:VEVENT
END:VCALENDAR
