BEGIN:VCALENDAR
VERSION:2.0
PRODID:-//www.arcocean.org//NONSGML kigkonsult.se iCalcreator 2.30.10//
CALSCALE:GREGORIAN
METHOD:PUBLISH
UID:c7be61ea-f178-42bb-9b63-0ca69fcd2a5e
X-WR-CALDESC:Say hello to our #ArcOcean Support Coordination team at the Eg
 g Harbor Township Special Education Parents Advisory Group Special Needs R
 esource Fair at the Alder Ave Middle School in Egg Harbor Township to lear
 n more about our programs and services.
X-WR-RELCALID:ad533ba8ecf70af293453b29394773af
X-WR-TIMEZONE:America/New_York
BEGIN:VTIMEZONE
TZID:America/New_York
BEGIN:STANDARD
TZNAME:EST
DTSTART:20251102T020000
TZOFFSETFROM:-0400
TZOFFSETTO:-0500
RDATE:20261101T020000
END:STANDARD
BEGIN:DAYLIGHT
TZNAME:EDT
DTSTART:20250309T020000
TZOFFSETFROM:-0500
TZOFFSETTO:-0400
RDATE:20260308T020000
RDATE:20270314T020000
END:DAYLIGHT
END:VTIMEZONE
BEGIN:VEVENT
UID:b33c2383-9fda-4bc6-958d-c1e822bceb10
DTSTAMP:20260424T050828Z
DESCRIPTION:Say hello to our #ArcOcean Support Coordination team at the Egg
  Harbor Township Special Education Parents Advisory Group Special Needs Re
 source Fair at the Alder Ave Middle School in Egg Harbor Township to learn
  more about our programs and services.
DTSTART;TZID=America/New_York:20251113T180000
DTEND;TZID=America/New_York:20251113T210000
LOCATION:Island Heights Boardwalk
SUMMARY:Say Hello to #ArcOcean at the EHT Resource Fair
END:VEVENT
END:VCALENDAR
