BEGIN:VCALENDAR
VERSION:2.0
PRODID:-//www.arcocean.org//NONSGML kigkonsult.se iCalcreator 2.30.10//
CALSCALE:GREGORIAN
METHOD:PUBLISH
UID:4ded0c96-739e-4ffe-befa-8640c93c1d78
X-WR-CALDESC:Say hello to our #ArcOcean staff to learn more about our progr
 ams and services at the Lacey Branch Ocean County Library Autism Resources
  Fair.
X-WR-RELCALID:ae9cd953d03019bd1ddfb93f0321583a
X-WR-TIMEZONE:America/New_York
BEGIN:VTIMEZONE
TZID:America/New_York
BEGIN:STANDARD
TZNAME:EST
DTSTART:20251102T020000
TZOFFSETFROM:-0400
TZOFFSETTO:-0500
RDATE:20261101T020000
END:STANDARD
BEGIN:DAYLIGHT
TZNAME:EDT
DTSTART:20250309T020000
TZOFFSETFROM:-0500
TZOFFSETTO:-0400
RDATE:20260308T020000
RDATE:20270314T020000
END:DAYLIGHT
END:VTIMEZONE
BEGIN:VEVENT
UID:673f2a65-b9eb-42a9-aa81-2ce23b26f6a5
DTSTAMP:20260424T051323Z
DESCRIPTION:Say hello to our #ArcOcean staff to learn more about our progra
 ms and services at the Lacey Branch Ocean County Library Autism Resources 
 Fair.
DTSTART;TZID=America/New_York:20251108T100000
DTEND;TZID=America/New_York:20251108T140000
LOCATION:
SUMMARY:Say Hello to #ArcOcean at the Ocean County Library
END:VEVENT
END:VCALENDAR
