BEGIN:VCALENDAR
VERSION:2.0
PRODID:-//www.arcocean.org//NONSGML kigkonsult.se iCalcreator 2.30.10//
CALSCALE:GREGORIAN
METHOD:PUBLISH
UID:71c661ff-6b0a-4229-be88-377c2256d127
X-WR-CALDESC:Say hello to The Arc's self-advocacy group Power in Numbers at
  this annual Kiwanis Pointsgiving event! We will be there with several com
 munity non-profits and service organizations collecting toys for our Toys 
 for Tots drive and selling boxes of custom holiday cards designed by vocat
 ional program participants.
X-WR-RELCALID:a2fa7bc8afc6cad01922131ced07b7a3
X-WR-TIMEZONE:America/New_York
BEGIN:VTIMEZONE
TZID:America/New_York
BEGIN:STANDARD
TZNAME:EST
DTSTART:20241103T020000
TZOFFSETFROM:-0400
TZOFFSETTO:-0500
RDATE:20251102T020000
RDATE:20261101T020000
END:STANDARD
BEGIN:DAYLIGHT
TZNAME:EDT
DTSTART:20250309T020000
TZOFFSETFROM:-0500
TZOFFSETTO:-0400
RDATE:20260308T020000
RDATE:20270314T020000
END:DAYLIGHT
END:VTIMEZONE
BEGIN:VEVENT
UID:74331bb2-c03d-404d-9e73-7d61ec21fc7f
DTSTAMP:20260424T051832Z
DESCRIPTION:Say hello to The Arc's self-advocacy group Power in Numbers at 
 this annual Kiwanis Pointsgiving event! We will be there with several comm
 unity non-profits and service organizations collecting toys for our Toys f
 or Tots drive and selling boxes of custom holiday cards designed by vocati
 onal program participants.
DTSTART;TZID=America/New_York:20251101T130000
DTEND;TZID=America/New_York:20251101T160000
LOCATION:Community Park\, Bridge Ave\, Point Pleasant\, NJ
SUMMARY:Say Hello to #ArcOcean at Pointsgiving
END:VEVENT
END:VCALENDAR
