BEGIN:VCALENDAR
VERSION:2.0
PRODID:-//www.arcocean.org//NONSGML kigkonsult.se iCalcreator 2.30.10//
CALSCALE:GREGORIAN
METHOD:PUBLISH
UID:8b00a3b7-7db5-41e7-b04a-d7281b469f02
X-WR-CALDESC:Say hello to #ArcOcean at OceanFirst Foundation's Candy 'Coate
 d' Trunk or Treat on Tuesday\, October 21st from 4:00pm-7:00pm to check ou
 t the Power in Numbers Self Advocacy Group's decorated trunk!
X-WR-RELCALID:1a7dac94a3697867bcb4f8dff463187d
X-WR-TIMEZONE:America/New_York
BEGIN:VTIMEZONE
TZID:America/New_York
BEGIN:STANDARD
TZNAME:EST
DTSTART:20241103T020000
TZOFFSETFROM:-0400
TZOFFSETTO:-0500
RDATE:20251102T020000
RDATE:20261101T020000
END:STANDARD
BEGIN:DAYLIGHT
TZNAME:EDT
DTSTART:20250309T020000
TZOFFSETFROM:-0500
TZOFFSETTO:-0400
RDATE:20260308T020000
RDATE:20270314T020000
END:DAYLIGHT
END:VTIMEZONE
BEGIN:VEVENT
UID:f002b17e-87f6-4acd-ab44-df6fde7c4d1b
DTSTAMP:20260424T065543Z
DESCRIPTION:Say hello to #ArcOcean at OceanFirst Foundation's Candy 'Coated
 ' Trunk or Treat on Tuesday\, October 21st from 4:00pm-7:00pm to check out
  the Power in Numbers Self Advocacy Group's decorated trunk!
DTSTART;TZID=America/New_York:20251021T160000
DTEND;TZID=America/New_York:20251021T190000
LOCATION:OceanFist Bank\, 975 Hooper Ave\, Toms River\, NJ 08753
SUMMARY:Say Hello to #ArcOcean at OceanFirst's Trunk or Treat
END:VEVENT
END:VCALENDAR
