BEGIN:VCALENDAR
VERSION:2.0
PRODID:-//www.arcocean.org//NONSGML kigkonsult.se iCalcreator 2.30.10//
CALSCALE:GREGORIAN
METHOD:PUBLISH
UID:19f4d32d-154a-4fea-9441-641063054e6e
X-WR-CALDESC:Come cheer on your favorite team at our Arc Ocean Kickball Tou
 rnament on Tuesday\, October 21st\, from 10 AM to 2 PM at the Drum Point S
 ports Complex softball fields\, located at 303 Brick Blvd\, Brick Township
 \, NJ 08723. This fun-filled event will bring together participants from s
 ix vocational day programs for a day of friendly competition\, fitness\, a
 nd camaraderie.
X-WR-RELCALID:5b35d21c543586bf2b41a89fe9d98f04
X-WR-TIMEZONE:America/New_York
BEGIN:VTIMEZONE
TZID:America/New_York
BEGIN:STANDARD
TZNAME:EST
DTSTART:20241103T020000
TZOFFSETFROM:-0400
TZOFFSETTO:-0500
RDATE:20251102T020000
RDATE:20261101T020000
END:STANDARD
BEGIN:DAYLIGHT
TZNAME:EDT
DTSTART:20250309T020000
TZOFFSETFROM:-0500
TZOFFSETTO:-0400
RDATE:20260308T020000
RDATE:20270314T020000
END:DAYLIGHT
END:VTIMEZONE
BEGIN:VEVENT
UID:5ca0ce67-0861-4400-9c53-b38d9ef60b48
DTSTAMP:20260424T065419Z
DESCRIPTION:Come cheer on your favorite team at our Arc Ocean Kickball Tour
 nament on Tuesday\, October 21st\, from 10 AM to 2 PM at the Drum Point Sp
 orts Complex softball fields\, located at 303 Brick Blvd\, Brick Township\
 , NJ 08723. This fun-filled event will bring together participants from si
 x vocational day programs for a day of friendly competition\, fitness\, an
 d camaraderie.
DTSTART;TZID=America/New_York:20251021T100000
DTEND;TZID=America/New_York:20251021T140000
LOCATION:Drum Point Sports Complex
SUMMARY:Kickball Tournament
END:VEVENT
END:VCALENDAR
