BEGIN:VCALENDAR
VERSION:2.0
PRODID:-//www.arcocean.org//NONSGML kigkonsult.se iCalcreator 2.30.10//
CALSCALE:GREGORIAN
METHOD:PUBLISH
UID:d7495792-792d-4bcf-872c-99d58700cfe7
X-WR-CALDESC:Say hello to #ArcOcean at Island Beach Fall Fest on Sunday\, O
 ctober 5th from 10-4:00pm where we will be selling our handcrafted fire st
 arters for just $5! It's perfect for crisp fall nights by the fire.
X-WR-RELCALID:1d0bd34af1a031b0e2f432074a8ccf16
X-WR-TIMEZONE:America/New_York
BEGIN:VTIMEZONE
TZID:America/New_York
BEGIN:STANDARD
TZNAME:EST
DTSTART:20241103T020000
TZOFFSETFROM:-0400
TZOFFSETTO:-0500
RDATE:20251102T020000
RDATE:20261101T020000
END:STANDARD
BEGIN:DAYLIGHT
TZNAME:EDT
DTSTART:20250309T020000
TZOFFSETFROM:-0500
TZOFFSETTO:-0400
RDATE:20260308T020000
RDATE:20270314T020000
END:DAYLIGHT
END:VTIMEZONE
BEGIN:VEVENT
UID:e2f0f8ed-44af-4edb-94ef-480b49961de8
DTSTAMP:20260424T071043Z
DESCRIPTION:Say hello to #ArcOcean at Island Beach Fall Fest on Sunday\, Oc
 tober 5th from 10-4:00pm where we will be selling our handcrafted fire sta
 rters for just $5! It's perfect for crisp fall nights by the fire.
DTSTART;TZID=America/New_York:20251005T100000
DTEND;TZID=America/New_York:20251005T160000
LOCATION:Island Beach State Park Swimming Area 1
SUMMARY:Say Hello to #ArcOcean at Island Beach Fall Fest
END:VEVENT
END:VCALENDAR
