BEGIN:VCALENDAR
VERSION:2.0
PRODID:-//www.arcocean.org//NONSGML kigkonsult.se iCalcreator 2.30.10//
CALSCALE:GREGORIAN
METHOD:PUBLISH
UID:864c03d5-52d8-4e63-add2-db5f5442ce7e
X-WR-CALDESC:
X-WR-RELCALID:34589753c4c3984697cff41ac9497310
X-WR-TIMEZONE:America/New_York
BEGIN:VTIMEZONE
TZID:America/New_York
BEGIN:STANDARD
TZNAME:EST
DTSTART:20241103T020000
TZOFFSETFROM:-0400
TZOFFSETTO:-0500
RDATE:20251102T020000
RDATE:20261101T020000
END:STANDARD
BEGIN:DAYLIGHT
TZNAME:EDT
DTSTART:20250309T020000
TZOFFSETFROM:-0500
TZOFFSETTO:-0400
RDATE:20260308T020000
RDATE:20270314T020000
END:DAYLIGHT
END:VTIMEZONE
BEGIN:VEVENT
UID:1a5acc34-57f6-4308-835d-235e4a495de6
DTSTAMP:20260424T070509Z
DESCRIPTION:
DTSTART;TZID=America/New_York:20251003T180000
DTEND;TZID=America/New_York:20251003T220000
LOCATION:Atlantis Ballroom at the Days Hotel by Wyndham\, 290 NJ-37 E\, Tom
 s River\, NJ 08753 US
SUMMARY:Casino Night
END:VEVENT
END:VCALENDAR
