BEGIN:VCALENDAR
VERSION:2.0
PRODID:-//www.arcocean.org//NONSGML kigkonsult.se iCalcreator 2.30.10//
CALSCALE:GREGORIAN
METHOD:PUBLISH
UID:d78f70cf-3293-46c5-a215-20d705513e62
X-WR-CALDESC:Join The Arc at the Jersey Shore BlueClaws this season and pur
 chase your discounted tickets today - community partner and fireworks nigh
 t!
X-WR-RELCALID:96e76f727e7fea0125529593962cb7fd
X-WR-TIMEZONE:America/New_York
BEGIN:VTIMEZONE
TZID:America/New_York
BEGIN:STANDARD
TZNAME:EST
DTSTART:20221106T020000
TZOFFSETFROM:-0400
TZOFFSETTO:-0500
RDATE:20231105T020000
RDATE:20241103T020000
END:STANDARD
BEGIN:DAYLIGHT
TZNAME:EDT
DTSTART:20230312T020000
TZOFFSETFROM:-0500
TZOFFSETTO:-0400
RDATE:20240310T020000
END:DAYLIGHT
END:VTIMEZONE
BEGIN:VEVENT
UID:9b3c687a-ffee-4321-ae46-990b270bf233
DTSTAMP:20260420T114701Z
DESCRIPTION:Join The Arc at the Jersey Shore BlueClaws this season and purc
 hase your discounted tickets today - community partner and fireworks night
 !
DTSTART;TZID=America/New_York:20230805T190000
DTEND;TZID=America/New_York:20230805T220000
LOCATION:Shoretown Ballpark
SUMMARY:BlueClaws Game (4) - Community Partner Night!
END:VEVENT
END:VCALENDAR
