BEGIN:VCALENDAR
VERSION:2.0
PRODID:-//www.arcocean.org//NONSGML kigkonsult.se iCalcreator 2.30.10//
CALSCALE:GREGORIAN
METHOD:PUBLISH
UID:29e5352c-dbeb-464d-8132-7a86555ae0b8
X-WR-CALDESC:Join The Arc at the Jersey Shore BlueClaws this season and pur
 chase your discounted tickets today - fireworks night!
X-WR-RELCALID:92bf5ae83b509e517bb1cf14a1ebccc3
X-WR-TIMEZONE:America/New_York
BEGIN:VTIMEZONE
TZID:America/New_York
BEGIN:STANDARD
TZNAME:EST
DTSTART:20221106T020000
TZOFFSETFROM:-0400
TZOFFSETTO:-0500
RDATE:20231105T020000
RDATE:20241103T020000
END:STANDARD
BEGIN:DAYLIGHT
TZNAME:EDT
DTSTART:20230312T020000
TZOFFSETFROM:-0500
TZOFFSETTO:-0400
RDATE:20240310T020000
END:DAYLIGHT
END:VTIMEZONE
BEGIN:VEVENT
UID:1a9ba6ea-e2e7-4e9c-9562-b8a36b1093c2
DTSTAMP:20260420T151357Z
DESCRIPTION:Join The Arc at the Jersey Shore BlueClaws this season and purc
 hase your discounted tickets today - fireworks night!
DTSTART;TZID=America/New_York:20230602T190000
DTEND;TZID=America/New_York:20230602T220000
LOCATION:Shoretown Ballpark
SUMMARY:BlueClaws Game (2)
END:VEVENT
END:VCALENDAR
