BEGIN:VCALENDAR
VERSION:2.0
PRODID:-//www.arcocean.org//NONSGML kigkonsult.se iCalcreator 2.30.10//
CALSCALE:GREGORIAN
METHOD:PUBLISH
UID:2f8a49f9-38a4-4571-981b-e147ebbd0cd4
X-WR-CALDESC:Join The Arc at the Jersey Shore BlueClaws this season and pur
 chase your discounted tickets today!
X-WR-RELCALID:443d365ee821ce5716904672333a2565
X-WR-TIMEZONE:America/New_York
BEGIN:VTIMEZONE
TZID:America/New_York
BEGIN:STANDARD
TZNAME:EST
DTSTART:20221106T020000
TZOFFSETFROM:-0400
TZOFFSETTO:-0500
RDATE:20231105T020000
RDATE:20241103T020000
END:STANDARD
BEGIN:DAYLIGHT
TZNAME:EDT
DTSTART:20230312T020000
TZOFFSETFROM:-0500
TZOFFSETTO:-0400
RDATE:20240310T020000
END:DAYLIGHT
END:VTIMEZONE
BEGIN:VEVENT
UID:85ede2f0-3254-4f66-8f81-1cab1c1a05bf
DTSTAMP:20260420T171740Z
DESCRIPTION:Join The Arc at the Jersey Shore BlueClaws this season and purc
 hase your discounted tickets today!
DTSTART;TZID=America/New_York:20230517T110000
DTEND;TZID=America/New_York:20230517T140000
LOCATION:Shoretown Ballpark
SUMMARY:BlueClaws Game (1)
END:VEVENT
END:VCALENDAR
