BEGIN:VCALENDAR
VERSION:2.0
PRODID:-//www.arcocean.org//NONSGML kigkonsult.se iCalcreator 2.30.10//
CALSCALE:GREGORIAN
METHOD:PUBLISH
UID:face7fc7-1c69-4c0f-9f69-95b1ab606c2f
X-WR-CALDESC:Step Up for The Arc on Saturday\, May 13\, 2023 at the Jersey 
 Shore BlueClaws for The Arc\, Ocean County Chapter's 21st Annual Walk and 
 Family Fun Day! Click the link below for more details.
X-WR-RELCALID:275539350413610b867573f38322e0c3
X-WR-TIMEZONE:America/New_York
BEGIN:VTIMEZONE
TZID:America/New_York
BEGIN:STANDARD
TZNAME:EST
DTSTART:20221106T020000
TZOFFSETFROM:-0400
TZOFFSETTO:-0500
RDATE:20231105T020000
RDATE:20241103T020000
END:STANDARD
BEGIN:DAYLIGHT
TZNAME:EDT
DTSTART:20230312T020000
TZOFFSETFROM:-0500
TZOFFSETTO:-0400
RDATE:20240310T020000
END:DAYLIGHT
END:VTIMEZONE
BEGIN:VEVENT
UID:845e53f8-4c30-4919-9df6-1ac0c09f80ed
DTSTAMP:20260420T170811Z
DESCRIPTION:Step Up for The Arc on Saturday\, May 13\, 2023 at the Jersey S
 hore BlueClaws for The Arc\, Ocean County Chapter's 21st Annual Walk and F
 amily Fun Day! Click the link below for more details.
DTSTART;TZID=America/New_York:20230513T100000
DTEND;TZID=America/New_York:20230513T130000
LOCATION:Home of the Jersey Shore BlueClaws
SUMMARY:Step Up for The Arc Walk
END:VEVENT
END:VCALENDAR
