BEGIN:VCALENDAR
VERSION:2.0
PRODID:-//www.arcocean.org//NONSGML kigkonsult.se iCalcreator 2.30.10//
CALSCALE:GREGORIAN
METHOD:PUBLISH
UID:fb0d5bfe-6f11-40c9-91c7-14cd996073ee
X-WR-CALDESC:Join us for a night to honor and celebrate the incredible comm
 unity who supports The Arc\, Ocean County Chapter at our cocktail receptio
 n! \n\nRSVP: Tickets are $60 ($400 for a table of 8) and include passed ho
 rs d'oeuvres\, dinner\, dessert\, soft drinks/coffee/tea\, and cash bar. C
 lick the link below for more event info.
X-WR-RELCALID:fee7eed9c453b2a23b50455eeadbc420
X-WR-TIMEZONE:America/New_York
BEGIN:VTIMEZONE
TZID:America/New_York
BEGIN:STANDARD
TZNAME:EST
DTSTART:20221106T020000
TZOFFSETFROM:-0400
TZOFFSETTO:-0500
RDATE:20231105T020000
END:STANDARD
BEGIN:DAYLIGHT
TZNAME:EDT
DTSTART:20230312T020000
TZOFFSETFROM:-0500
TZOFFSETTO:-0400
RDATE:20240310T020000
END:DAYLIGHT
END:VTIMEZONE
BEGIN:VEVENT
UID:b05eba6b-339a-4a9b-b09e-2c02476f5733
DTSTAMP:20260420T211133Z
DESCRIPTION:Join us for a night to honor and celebrate the incredible commu
 nity who supports The Arc\, Ocean County Chapter at our cocktail reception
 ! \n\nRSVP: Tickets are $60 ($400 for a table of 8) and include passed hor
 s d'oeuvres\, dinner\, dessert\, soft drinks/coffee/tea\, and cash bar. Cl
 ick the link below for more event info.
DTSTART;TZID=America/New_York:20230316T180000
DTEND;TZID=America/New_York:20230316T210000
LOCATION:The Toms River Clarion Hotel
SUMMARY:Catalyst Awards
END:VEVENT
END:VCALENDAR
