BEGIN:VCALENDAR
VERSION:2.0
PRODID:-//www.arcocean.org//NONSGML kigkonsult.se iCalcreator 2.30.10//
CALSCALE:GREGORIAN
METHOD:PUBLISH
UID:a0639589-68d4-4c37-8bb0-3a9e5e844364
X-WR-CALDESC:Join The Arc\, Ocean County Chapter as we celebrate the many t
 alents of our participants for Developmental Disabilities Awareness Month 
 at our 3rd Annual Virtual Talent Show on Thursday\, March 2nd at 6:00pm on
  Zoom! Please RSVP for this free virtual event.
X-WR-RELCALID:80f2958cff0f24b541146ca230c70077
X-WR-TIMEZONE:America/New_York
BEGIN:VTIMEZONE
TZID:America/New_York
BEGIN:STANDARD
TZNAME:EST
DTSTART:20221106T020000
TZOFFSETFROM:-0400
TZOFFSETTO:-0500
RDATE:20231105T020000
END:STANDARD
BEGIN:DAYLIGHT
TZNAME:EDT
DTSTART:20220313T020000
TZOFFSETFROM:-0500
TZOFFSETTO:-0400
RDATE:20230312T020000
RDATE:20240310T020000
END:DAYLIGHT
END:VTIMEZONE
BEGIN:VEVENT
UID:414aa67e-4d88-4114-8ff4-5b9ca9eba181
DTSTAMP:20260420T211327Z
DESCRIPTION:Join The Arc\, Ocean County Chapter as we celebrate the many ta
 lents of our participants for Developmental Disabilities Awareness Month a
 t our 3rd Annual Virtual Talent Show on Thursday\, March 2nd at 6:00pm on 
 Zoom! Please RSVP for this free virtual event.
DTSTART;TZID=America/New_York:20230302T180000
DTEND;TZID=America/New_York:20230302T190000
LOCATION:Zoom
SUMMARY:Virtual Talent Show
END:VEVENT
END:VCALENDAR
