BEGIN:VCALENDAR
VERSION:2.0
PRODID:-//www.arcocean.org//NONSGML kigkonsult.se iCalcreator 2.30.10//
CALSCALE:GREGORIAN
METHOD:PUBLISH
UID:940a93ff-aab5-4681-ad0f-2254140b5abe
X-WR-CALDESC:
X-WR-RELCALID:78677ce827ff572bd0f71a540097640b
X-WR-TIMEZONE:America/New_York
BEGIN:VTIMEZONE
TZID:America/New_York
BEGIN:STANDARD
TZNAME:EST
DTSTART:20221106T020000
TZOFFSETFROM:-0400
TZOFFSETTO:-0500
RDATE:20231105T020000
END:STANDARD
BEGIN:DAYLIGHT
TZNAME:EDT
DTSTART:20220313T020000
TZOFFSETFROM:-0500
TZOFFSETTO:-0400
RDATE:20230312T020000
RDATE:20240310T020000
END:DAYLIGHT
END:VTIMEZONE
BEGIN:VEVENT
UID:32cddb21-b445-4c51-9dfe-6d2c1994f635
DTSTAMP:20260421T030505Z
DESCRIPTION:
DTSTART;TZID=America/New_York:20221225T000000
DTEND;TZID=America/New_York:20221225T235900
LOCATION:
SUMMARY:Merry Christmas
END:VEVENT
END:VCALENDAR
