BEGIN:VCALENDAR
VERSION:2.0
PRODID:-//www.arcocean.org//NONSGML kigkonsult.se iCalcreator 2.30.10//
CALSCALE:GREGORIAN
METHOD:PUBLISH
UID:817e47a5-5381-4136-9d0e-cb7796eba533
X-WR-CALDESC:
X-WR-RELCALID:b77a142317d7b0bb176f3a7390d6a66e
X-WR-TIMEZONE:America/New_York
BEGIN:VTIMEZONE
TZID:America/New_York
BEGIN:STANDARD
TZNAME:EST
DTSTART:20221106T020000
TZOFFSETFROM:-0400
TZOFFSETTO:-0500
RDATE:20231105T020000
END:STANDARD
BEGIN:DAYLIGHT
TZNAME:EDT
DTSTART:20220313T020000
TZOFFSETFROM:-0500
TZOFFSETTO:-0400
RDATE:20230312T020000
RDATE:20240310T020000
END:DAYLIGHT
END:VTIMEZONE
BEGIN:VEVENT
UID:acbe7dff-5e8f-4ca4-a5c2-617ed2df2f70
DTSTAMP:20260421T031223Z
DESCRIPTION:
DTSTART;TZID=America/New_York:20221218T000000
DTEND;TZID=America/New_York:20221218T235900
LOCATION:
SUMMARY:Happy Hanukkah
END:VEVENT
END:VCALENDAR
