BEGIN:VCALENDAR
VERSION:2.0
PRODID:-//www.arcocean.org//NONSGML kigkonsult.se iCalcreator 2.30.10//
CALSCALE:GREGORIAN
METHOD:PUBLISH
UID:496bd49d-00d9-4d97-82cd-60c0ddfdd94e
X-WR-CALDESC:Stop by the Boscov's located in the Ocean County Mall for comp
 limentary gift wrapping of any gift purchased from the store. Santa's Litt
 le Helpers from our Adult Training Centers and the Toms River Interact Clu
 b will be wrapping gifts for donations.
X-WR-RELCALID:d780830e63d8ca2bcbd7bbacad584c3e
X-WR-TIMEZONE:America/New_York
BEGIN:VTIMEZONE
TZID:America/New_York
BEGIN:STANDARD
TZNAME:EST
DTSTART:20221106T020000
TZOFFSETFROM:-0400
TZOFFSETTO:-0500
RDATE:20231105T020000
END:STANDARD
BEGIN:DAYLIGHT
TZNAME:EDT
DTSTART:20220313T020000
TZOFFSETFROM:-0500
TZOFFSETTO:-0400
RDATE:20230312T020000
RDATE:20240310T020000
END:DAYLIGHT
END:VTIMEZONE
BEGIN:VEVENT
UID:ada3a216-f681-4d00-b52b-c76ea3743954
DTSTAMP:20260421T030754Z
DESCRIPTION:Stop by the Boscov's located in the Ocean County Mall for compl
 imentary gift wrapping of any gift purchased from the store. Santa's Littl
 e Helpers from our Adult Training Centers and the Toms River Interact Club
  will be wrapping gifts for donations.
DTSTART;TZID=America/New_York:20221209T110000
DTEND;TZID=America/New_York:20221209T190000
LOCATION:Ocean County Mall Boscov's
SUMMARY:Boscov's Gift Wrapping
END:VEVENT
END:VCALENDAR
