BEGIN:VCALENDAR
VERSION:2.0
PRODID:-//www.arcocean.org//NONSGML kigkonsult.se iCalcreator 2.30.10//
CALSCALE:GREGORIAN
METHOD:PUBLISH
UID:cc48cc3b-1b47-40fe-a1ec-29886e88b857
X-WR-CALDESC:North Bay ATC will be decorating a tree for the Toms River Elk
 s annual Festival of Trees on December 8th. The community is welcome to at
 tend and vote on our tree for a donation to The Arc with 100% of proceeds 
 supporting our mission. The event will have music\, light snacks\, drinks 
 and a cash kitchen for light fare dinner options.
X-WR-RELCALID:fbef18085f32b5ee53f66ffd418cd351
X-WR-TIMEZONE:America/New_York
BEGIN:VTIMEZONE
TZID:America/New_York
BEGIN:STANDARD
TZNAME:EST
DTSTART:20221106T020000
TZOFFSETFROM:-0400
TZOFFSETTO:-0500
RDATE:20231105T020000
END:STANDARD
BEGIN:DAYLIGHT
TZNAME:EDT
DTSTART:20220313T020000
TZOFFSETFROM:-0500
TZOFFSETTO:-0400
RDATE:20230312T020000
RDATE:20240310T020000
END:DAYLIGHT
END:VTIMEZONE
BEGIN:VEVENT
UID:4708892c-f0ee-46ce-a871-792b2c99f65a
DTSTAMP:20260421T030754Z
DESCRIPTION:North Bay ATC will be decorating a tree for the Toms River Elks
  annual Festival of Trees on December 8th. The community is welcome to att
 end and vote on our tree for a donation to The Arc with 100% of proceeds s
 upporting our mission. The event will have music\, light snacks\, drinks a
 nd a cash kitchen for light fare dinner options.
DTSTART;TZID=America/New_York:20221208T170000
DTEND;TZID=America/New_York:20221208T210000
LOCATION:Toms River Elks Lodge
SUMMARY:Toms River Elks Festival of Trees
END:VEVENT
END:VCALENDAR
