BEGIN:VCALENDAR
VERSION:2.0
PRODID:-//www.arcocean.org//NONSGML kigkonsult.se iCalcreator 2.30.10//
CALSCALE:GREGORIAN
METHOD:PUBLISH
UID:1c003240-bfbc-4e89-8910-81329d82becc
X-WR-CALDESC:Artists at The Arc will have their holiday paintings on displa
 y at the Winter Wonderland Art Gallery at The Strand Theater in Lakewood k
 icking off December 1st with an art show for families and friends of The A
 rc\, Ocean County Chapter. Festive refreshments will be provided.
X-WR-RELCALID:3628830b770afd84ca71744e314866fd
X-WR-TIMEZONE:America/New_York
BEGIN:VTIMEZONE
TZID:America/New_York
BEGIN:STANDARD
TZNAME:EST
DTSTART:20221106T020000
TZOFFSETFROM:-0400
TZOFFSETTO:-0500
RDATE:20231105T020000
END:STANDARD
BEGIN:DAYLIGHT
TZNAME:EDT
DTSTART:20220313T020000
TZOFFSETFROM:-0500
TZOFFSETTO:-0400
RDATE:20230312T020000
RDATE:20240310T020000
END:DAYLIGHT
END:VTIMEZONE
BEGIN:VEVENT
UID:2b4c14ff-e446-46d9-b1a9-4fc6ea277d9d
DTSTAMP:20260421T032551Z
DESCRIPTION:Artists at The Arc will have their holiday paintings on display
  at the Winter Wonderland Art Gallery at The Strand Theater in Lakewood ki
 cking off December 1st with an art show for families and friends of The Ar
 c\, Ocean County Chapter. Festive refreshments will be provided.
DTSTART;TZID=America/New_York:20221201T183000
DTEND;TZID=America/New_York:20221201T200000
LOCATION:The Strand Theater
SUMMARY:Winter Wonderland Art Gallery
END:VEVENT
END:VCALENDAR
