BEGIN:VCALENDAR
VERSION:2.0
PRODID:-//www.arcocean.org//NONSGML kigkonsult.se iCalcreator 2.30.10//
CALSCALE:GREGORIAN
METHOD:PUBLISH
UID:90806586-3d40-4bb3-a6bb-2bc5dec6bf6a
X-WR-CALDESC:Journeys & Discovery will be decorating a tree for the holiday
 s at the Brick Township Municipal Building for the season with the Annual 
 Christmas Tree Lighting on November 30th at 5:30pm.
X-WR-RELCALID:dad2956ea777e847a0106d78340da4d6
X-WR-TIMEZONE:America/New_York
BEGIN:VTIMEZONE
TZID:America/New_York
BEGIN:STANDARD
TZNAME:EST
DTSTART:20221106T020000
TZOFFSETFROM:-0400
TZOFFSETTO:-0500
RDATE:20231105T020000
END:STANDARD
BEGIN:DAYLIGHT
TZNAME:EDT
DTSTART:20220313T020000
TZOFFSETFROM:-0500
TZOFFSETTO:-0400
RDATE:20230312T020000
RDATE:20240310T020000
END:DAYLIGHT
END:VTIMEZONE
BEGIN:VEVENT
UID:24c525ff-a40e-4650-8807-e2458b2f6922
DTSTAMP:20260421T052402Z
DESCRIPTION:Journeys & Discovery will be decorating a tree for the holidays
  at the Brick Township Municipal Building for the season with the Annual C
 hristmas Tree Lighting on November 30th at 5:30pm.
DTSTART;TZID=America/New_York:20221130T173000
DTEND;TZID=America/New_York:20221130T183000
LOCATION:Brick Township Municipal Building
SUMMARY:Brick Township Holiday Trees
END:VEVENT
END:VCALENDAR
