BEGIN:VCALENDAR
VERSION:2.0
PRODID:-//www.arcocean.org//NONSGML kigkonsult.se iCalcreator 2.30.10//
CALSCALE:GREGORIAN
METHOD:PUBLISH
UID:9b0bb1f9-c832-4617-b7ce-c009296ee37a
X-WR-CALDESC:
X-WR-RELCALID:6d9717ce9624cfe1e0ef830bf8e97671
X-WR-TIMEZONE:America/New_York
BEGIN:VTIMEZONE
TZID:America/New_York
BEGIN:STANDARD
TZNAME:EST
DTSTART:20221106T020000
TZOFFSETFROM:-0400
TZOFFSETTO:-0500
RDATE:20231105T020000
END:STANDARD
BEGIN:DAYLIGHT
TZNAME:EDT
DTSTART:20220313T020000
TZOFFSETFROM:-0500
TZOFFSETTO:-0400
RDATE:20230312T020000
RDATE:20240310T020000
END:DAYLIGHT
END:VTIMEZONE
BEGIN:VEVENT
UID:1e4f6c90-1609-4fc2-9f25-661dfc8a2a1a
DTSTAMP:20260421T051604Z
DESCRIPTION:
DTSTART;TZID=America/New_York:20221124T000000
DTEND;TZID=America/New_York:20221124T235900
LOCATION:
SUMMARY:Happy Thanksgiving
END:VEVENT
END:VCALENDAR
