BEGIN:VCALENDAR
VERSION:2.0
PRODID:-//www.arcocean.org//NONSGML kigkonsult.se iCalcreator 2.30.10//
CALSCALE:GREGORIAN
METHOD:PUBLISH
UID:1acf6ea0-07ac-4585-94c9-e2d7c81d6acc
X-WR-CALDESC:Join us for an 18-round mini golf game\, gift auction\, 50/50 
 raffle and more as we raise funds for The Arc of Ocean County! Supervision
  will not be provided.
X-WR-RELCALID:66f1ab9d962dc3cf842bea2fc06ebc95
X-WR-TIMEZONE:America/New_York
BEGIN:VTIMEZONE
TZID:America/New_York
BEGIN:STANDARD
TZNAME:EST
DTSTART:20211107T020000
TZOFFSETFROM:-0400
TZOFFSETTO:-0500
RDATE:20221106T020000
RDATE:20231105T020000
END:STANDARD
BEGIN:DAYLIGHT
TZNAME:EDT
DTSTART:20220313T020000
TZOFFSETFROM:-0500
TZOFFSETTO:-0400
RDATE:20230312T020000
RDATE:20240310T020000
END:DAYLIGHT
END:VTIMEZONE
BEGIN:VEVENT
UID:3c03fdd0-a5c6-42ce-a7a7-21d0fb7462aa
DTSTAMP:20260423T084132Z
DESCRIPTION:Join us for an 18-round mini golf game\, gift auction\, 50/50 r
 affle and more as we raise funds for The Arc of Ocean County! Supervision 
 will not be provided.
DTSTART;TZID=America/New_York:20220924T100000
DTEND;TZID=America/New_York:20220924T130000
LOCATION:Barnacle Bill's | Ortley Beach\, NJ
SUMMARY:Miniature Golf Tournament
END:VEVENT
END:VCALENDAR
