BEGIN:VCALENDAR
VERSION:2.0
PRODID:-//www.arcocean.org//NONSGML kigkonsult.se iCalcreator 2.30.10//
CALSCALE:GREGORIAN
METHOD:PUBLISH
UID:3e5a709d-36db-4146-a9eb-7dc8f5ee3d44
X-WR-CALDESC:Support The Arc Night at our Jersey Shore BlueClaws community 
 partner game! Get your Game Day tickets here.
X-WR-RELCALID:3fb5c4223fbb228830c3cf73551ff6a4
X-WR-TIMEZONE:America/New_York
BEGIN:VTIMEZONE
TZID:America/New_York
BEGIN:STANDARD
TZNAME:EST
DTSTART:20211107T020000
TZOFFSETFROM:-0400
TZOFFSETTO:-0500
RDATE:20221106T020000
RDATE:20231105T020000
END:STANDARD
BEGIN:DAYLIGHT
TZNAME:EDT
DTSTART:20220313T020000
TZOFFSETFROM:-0500
TZOFFSETTO:-0400
RDATE:20230312T020000
END:DAYLIGHT
END:VTIMEZONE
BEGIN:VEVENT
UID:dbdcba65-109d-4d40-871f-27d721d1c5e9
DTSTAMP:20260423T123403Z
DESCRIPTION:Support The Arc Night at our Jersey Shore BlueClaws community p
 artner game! Get your Game Day tickets here.
DTSTART;TZID=America/New_York:20220709T190500
DTEND;TZID=America/New_York:20220709T220000
LOCATION:FirstEnergy Park
SUMMARY:BlueClaws Game - The Arc Night!
END:VEVENT
END:VCALENDAR
