BEGIN:VCALENDAR
VERSION:2.0
PRODID:-//www.arcocean.org//NONSGML kigkonsult.se iCalcreator 2.30.10//
CALSCALE:GREGORIAN
METHOD:PUBLISH
UID:826f06e9-d01f-4a48-8423-db081d3d56e0
X-WR-CALDESC:Support The Arc and enjoy a Jersey Shore BlueClaws game! Get y
 our Game Day tickets here.
X-WR-RELCALID:5f77e73846aa7bc15004504a3cf93c35
X-WR-TIMEZONE:America/New_York
BEGIN:VTIMEZONE
TZID:America/New_York
BEGIN:STANDARD
TZNAME:EST
DTSTART:20211107T020000
TZOFFSETFROM:-0400
TZOFFSETTO:-0500
RDATE:20221106T020000
RDATE:20231105T020000
END:STANDARD
BEGIN:DAYLIGHT
TZNAME:EDT
DTSTART:20220313T020000
TZOFFSETFROM:-0500
TZOFFSETTO:-0400
RDATE:20230312T020000
END:DAYLIGHT
END:VTIMEZONE
BEGIN:VEVENT
UID:d1b2e712-5c77-41e3-b0fa-42b4177ad9fc
DTSTAMP:20260423T140645Z
DESCRIPTION:Support The Arc and enjoy a Jersey Shore BlueClaws game! Get yo
 ur Game Day tickets here.
DTSTART;TZID=America/New_York:20220619T130500
DTEND;TZID=America/New_York:20220619T160000
LOCATION:FirstEnergy Park
SUMMARY:BlueClaws Game - The Arc
END:VEVENT
END:VCALENDAR
