BEGIN:VCALENDAR
VERSION:2.0
PRODID:-//www.arcocean.org//NONSGML kigkonsult.se iCalcreator 2.30.10//
CALSCALE:GREGORIAN
METHOD:PUBLISH
UID:617bb785-7977-4823-8718-c111938b9bce
X-WR-CALDESC:Support The Arc and enjoy a Jersey Shore BlueClaws game! Get y
 our Game Day tickets here.
X-WR-RELCALID:1a7194779854d3cf38c80705869987b3
X-WR-TIMEZONE:America/New_York
BEGIN:VTIMEZONE
TZID:America/New_York
BEGIN:STANDARD
TZNAME:EST
DTSTART:20211107T020000
TZOFFSETFROM:-0400
TZOFFSETTO:-0500
RDATE:20221106T020000
RDATE:20231105T020000
END:STANDARD
BEGIN:DAYLIGHT
TZNAME:EDT
DTSTART:20220313T020000
TZOFFSETFROM:-0500
TZOFFSETTO:-0400
RDATE:20230312T020000
END:DAYLIGHT
END:VTIMEZONE
BEGIN:VEVENT
UID:2dd470e0-4322-47c7-b3e0-c86679b52773
DTSTAMP:20260423T144259Z
DESCRIPTION:Support The Arc and enjoy a Jersey Shore BlueClaws game! Get yo
 ur Game Day tickets here.
DTSTART;TZID=America/New_York:20220604T190500
DTEND;TZID=America/New_York:20220604T220000
LOCATION:FirstEnergy Park
SUMMARY:BlueClaws Game - The Arc
END:VEVENT
END:VCALENDAR
