BEGIN:VCALENDAR
VERSION:2.0
PRODID:-//www.arcocean.org//NONSGML kigkonsult.se iCalcreator 2.30.10//
CALSCALE:GREGORIAN
METHOD:PUBLISH
UID:9dc4022c-8033-42c4-b645-a8f525867d7b
X-WR-CALDESC:Join The Arc\, Ocean County Chapter as we celebrate the 20th A
 nniversary Step Up for The Arc Walk for individuals with intellectual and 
 developmental disabilities in Ocean County\, NJ!  Register today and becom
 e a fundraiser to help us reach our goal of $60\,000 for The Arc's program
 s and support services.
X-WR-RELCALID:f9b0aabc9be58e2374fbf8b8c4d1427b
X-WR-TIMEZONE:America/New_York
BEGIN:VTIMEZONE
TZID:America/New_York
BEGIN:STANDARD
TZNAME:EST
DTSTART:20211107T020000
TZOFFSETFROM:-0400
TZOFFSETTO:-0500
RDATE:20221106T020000
RDATE:20231105T020000
END:STANDARD
BEGIN:DAYLIGHT
TZNAME:EDT
DTSTART:20220313T020000
TZOFFSETFROM:-0500
TZOFFSETTO:-0400
RDATE:20230312T020000
END:DAYLIGHT
END:VTIMEZONE
BEGIN:VEVENT
UID:f4395340-b5ca-4ed2-99a5-8b4bd30ea1b8
DTSTAMP:20260423T160441Z
DESCRIPTION:Join The Arc\, Ocean County Chapter as we celebrate the 20th An
 niversary Step Up for The Arc Walk for individuals with intellectual and d
 evelopmental disabilities in Ocean County\, NJ!  Register today and become
  a fundraiser to help us reach our goal of $60\,000 for The Arc's programs
  and support services.
DTSTART;TZID=America/New_York:20220521T100000
DTEND;TZID=America/New_York:20220521T130000
LOCATION:Jersey Shore BlueClaws
SUMMARY:Step Up for The Arc Walk
END:VEVENT
END:VCALENDAR
