BEGIN:VCALENDAR
VERSION:2.0
PRODID:-//www.arcocean.org//NONSGML kigkonsult.se iCalcreator 2.30.10//
CALSCALE:GREGORIAN
METHOD:PUBLISH
UID:2b347d2c-1337-454b-bb28-1ec24f7f334b
X-WR-CALDESC:Support The Arc and enjoy a Jersey Shore BlueClaws game! Get y
 our Game Day tickets here.
X-WR-RELCALID:0205840740fb22fbc3158c302f128879
X-WR-TIMEZONE:America/New_York
BEGIN:VTIMEZONE
TZID:America/New_York
BEGIN:STANDARD
TZNAME:EST
DTSTART:20211107T020000
TZOFFSETFROM:-0400
TZOFFSETTO:-0500
RDATE:20221106T020000
END:STANDARD
BEGIN:DAYLIGHT
TZNAME:EDT
DTSTART:20220313T020000
TZOFFSETFROM:-0500
TZOFFSETTO:-0400
RDATE:20230312T020000
END:DAYLIGHT
END:VTIMEZONE
BEGIN:VEVENT
UID:2c9084c5-8434-4163-8765-6f8abd9cf38c
DTSTAMP:20260423T160626Z
DESCRIPTION:Support The Arc and enjoy a Jersey Shore BlueClaws game! Get yo
 ur Game Day tickets here.
DTSTART;TZID=America/New_York:20220504T110500
DTEND;TZID=America/New_York:20220504T140000
LOCATION:FirstEnergy Park
SUMMARY:BlueClaws Game - The Arc
END:VEVENT
END:VCALENDAR
