BEGIN:VCALENDAR
VERSION:2.0
PRODID:-//www.arcocean.org//NONSGML kigkonsult.se iCalcreator 2.30.10//
CALSCALE:GREGORIAN
METHOD:PUBLISH
UID:8ddb609c-ef35-49d5-ba5a-777dd7ab38a9
X-WR-CALDESC:Join The Arc\, Ocean County Chapter as we kick-off our 20th An
 niversary Step Up for The Arc Walk live on Zoom\, Thursday April 21st at 1
 :00pm! We'll show you how to register for the Walk\, join a team\, and set
  up your fundraising goal to raise $50+ for a commemorative tie-dye t-shir
 t. Plus you'll hear from The Arc's programs and why they are raising funds
  for their wish list. \n\nTune in on Zoom\, April 21st to learn more about
  our 20th Anniversary celebration!
X-WR-RELCALID:c73bfe7c9f420a1545bf7f3d97306e8f
X-WR-TIMEZONE:America/New_York
BEGIN:VTIMEZONE
TZID:America/New_York
BEGIN:STANDARD
TZNAME:EST
DTSTART:20211107T020000
TZOFFSETFROM:-0400
TZOFFSETTO:-0500
RDATE:20221106T020000
END:STANDARD
BEGIN:DAYLIGHT
TZNAME:EDT
DTSTART:20220313T020000
TZOFFSETFROM:-0500
TZOFFSETTO:-0400
RDATE:20230312T020000
END:DAYLIGHT
END:VTIMEZONE
BEGIN:VEVENT
UID:358b91d8-082e-4934-a9c5-73a1ee400e7f
DTSTAMP:20260423T180041Z
DESCRIPTION:Join The Arc\, Ocean County Chapter as we kick-off our 20th Ann
 iversary Step Up for The Arc Walk live on Zoom\, Thursday April 21st at 1:
 00pm! We'll show you how to register for the Walk\, join a team\, and set 
 up your fundraising goal to raise $50+ for a commemorative tie-dye t-shirt
 . Plus you'll hear from The Arc's programs and why they are raising funds 
 for their wish list. \n\nTune in on Zoom\, April 21st to learn more about 
 our 20th Anniversary celebration!
DTSTART;TZID=America/New_York:20220421T130000
DTEND;TZID=America/New_York:20220421T133000
LOCATION:On Zoom
SUMMARY:Step Up for The Arc Walk Kick-Off!
END:VEVENT
END:VCALENDAR
