BEGIN:VCALENDAR
VERSION:2.0
PRODID:-//www.arcocean.org//NONSGML kigkonsult.se iCalcreator 2.30.10//
CALSCALE:GREGORIAN
METHOD:PUBLISH
UID:6ea2d226-d172-45c7-a774-5711cc90c70a
X-WR-CALDESC:Join us for an Open House at The Strand Theater in Lakewood as
  we showcase the artwork created by individuals with disabilities from The
  Arc\, Ocean County Chapter. Light refreshments will be served. The festiv
 e artwork will be displayed throughout the month of December. This event i
 s free to attend.\n\nThe Strand Theater\n400 Clifton Avenue\nLakewood\, NJ
  08701
X-WR-RELCALID:727b64810666176ddd63ff2ff3d5fdb3
X-WR-TIMEZONE:America/New_York
BEGIN:VTIMEZONE
TZID:America/New_York
BEGIN:STANDARD
TZNAME:EST
DTSTART:20211107T020000
TZOFFSETFROM:-0400
TZOFFSETTO:-0500
RDATE:20221106T020000
END:STANDARD
BEGIN:DAYLIGHT
TZNAME:EDT
DTSTART:20210314T020000
TZOFFSETFROM:-0500
TZOFFSETTO:-0400
RDATE:20220313T020000
RDATE:20230312T020000
END:DAYLIGHT
END:VTIMEZONE
BEGIN:VEVENT
UID:6cd0b08f-a713-4568-8d25-6d6a16146c13
DTSTAMP:20260424T014210Z
DESCRIPTION:Join us for an Open House at The Strand Theater in Lakewood as 
 we showcase the artwork created by individuals with disabilities from The 
 Arc\, Ocean County Chapter. Light refreshments will be served. The festive
  artwork will be displayed throughout the month of December. This event is
  free to attend.\n\nThe Strand Theater\n400 Clifton Avenue\nLakewood\, NJ 
 08701
DTSTART;TZID=America/New_York:20211202T180000
DTEND;TZID=America/New_York:20211202T200000
LOCATION:The Strand Theater
SUMMARY:Winter Wonderland Art Gallery
END:VEVENT
END:VCALENDAR
