BEGIN:VCALENDAR
VERSION:2.0
PRODID:-//www.arcocean.org//NONSGML kigkonsult.se iCalcreator 2.30.10//
CALSCALE:GREGORIAN
METHOD:PUBLISH
UID:3a06ab0a-8e1e-4e3a-a825-cdf2bcbb7a2b
X-WR-CALDESC:Join us for an 18-round mini golf game\, Gift Auction and 50/5
 0 as we raise funds for The Arc of Ocean County! Supervision will not be p
 rovided.
X-WR-RELCALID:76dab4d528b4e4d4c8d6aec2cc810561
X-WR-TIMEZONE:America/New_York
BEGIN:VTIMEZONE
TZID:America/New_York
BEGIN:STANDARD
TZNAME:EST
DTSTART:20201101T020000
TZOFFSETFROM:-0400
TZOFFSETTO:-0500
RDATE:20211107T020000
RDATE:20221106T020000
END:STANDARD
BEGIN:DAYLIGHT
TZNAME:EDT
DTSTART:20210314T020000
TZOFFSETFROM:-0500
TZOFFSETTO:-0400
RDATE:20220313T020000
RDATE:20230312T020000
END:DAYLIGHT
END:VTIMEZONE
BEGIN:VEVENT
UID:5ae2e01c-58ae-4ec4-a4e1-ff32bd7ddfeb
DTSTAMP:20260424T071425Z
DESCRIPTION:Join us for an 18-round mini golf game\, Gift Auction and 50/50
  as we raise funds for The Arc of Ocean County! Supervision will not be pr
 ovided.
DTSTART;TZID=America/New_York:20210925T100000
DTEND;TZID=America/New_York:20210925T140000
LOCATION:Barnacle Bill's | Ortley Beach\, NJ
SUMMARY:Miniature Golf Tournament
END:VEVENT
END:VCALENDAR
